BEGIN:VCALENDAR
VERSION:2.0
PRODID:-//Control Station - ECPv6.15.20//NONSGML v1.0//EN
CALSCALE:GREGORIAN
METHOD:PUBLISH
X-WR-CALNAME:Control Station
X-ORIGINAL-URL:https://controlstation.com
X-WR-CALDESC:Events for Control Station
REFRESH-INTERVAL;VALUE=DURATION:PT1H
X-Robots-Tag:noindex
X-PUBLISHED-TTL:PT1H
BEGIN:VTIMEZONE
TZID:Europe/Rome
BEGIN:DAYLIGHT
TZOFFSETFROM:+0100
TZOFFSETTO:+0200
TZNAME:CEST
DTSTART:20240331T010000
END:DAYLIGHT
BEGIN:STANDARD
TZOFFSETFROM:+0200
TZOFFSETTO:+0100
TZNAME:CET
DTSTART:20241027T010000
END:STANDARD
BEGIN:DAYLIGHT
TZOFFSETFROM:+0100
TZOFFSETTO:+0200
TZNAME:CEST
DTSTART:20250330T010000
END:DAYLIGHT
BEGIN:STANDARD
TZOFFSETFROM:+0200
TZOFFSETTO:+0100
TZNAME:CET
DTSTART:20251026T010000
END:STANDARD
BEGIN:DAYLIGHT
TZOFFSETFROM:+0100
TZOFFSETTO:+0200
TZNAME:CEST
DTSTART:20260329T010000
END:DAYLIGHT
BEGIN:STANDARD
TZOFFSETFROM:+0200
TZOFFSETTO:+0100
TZNAME:CET
DTSTART:20261025T010000
END:STANDARD
END:VTIMEZONE
BEGIN:VEVENT
DTSTART;VALUE=DATE:20250616
DTEND;VALUE=DATE:20250620
DTSTAMP:20260422T110206
CREATED:20250416T001522Z
LAST-MODIFIED:20250513T184402Z
UID:36600-1750032000-1750377599@controlstation.com
SUMMARY:ROKLive EMEA 2025
DESCRIPTION:
URL:https://controlstation.com/event/roklive-emea-2025/
LOCATION:Rome Marriott Park Hotel\, Via Colonnello Tommaso Masala\, 54\, Rome\, Roma\, 00148\, Italy
CATEGORIES:General
ATTACH;FMTTYPE=image/webp:https://controlstation.com/wp-content/uploads/2025/04/16x9-ROKLive-EMEA-Logo-CMYK801.webp
END:VEVENT
END:VCALENDAR