BEGIN:VCALENDAR
VERSION:2.0
PRODID:-//Control Station - ECPv6.15.20//NONSGML v1.0//EN
CALSCALE:GREGORIAN
METHOD:PUBLISH
X-WR-CALNAME:Control Station
X-ORIGINAL-URL:https://controlstation.com
X-WR-CALDESC:Events for Control Station
REFRESH-INTERVAL;VALUE=DURATION:PT1H
X-Robots-Tag:noindex
X-PUBLISHED-TTL:PT1H
BEGIN:VTIMEZONE
TZID:UTC
BEGIN:STANDARD
TZOFFSETFROM:+0000
TZOFFSETTO:+0000
TZNAME:UTC
DTSTART:20240101T000000
END:STANDARD
END:VTIMEZONE
BEGIN:VEVENT
DTSTART;VALUE=DATE:20250504
DTEND;VALUE=DATE:20250508
DTSTAMP:20260421T122533
CREATED:20250110T151050Z
LAST-MODIFIED:20250513T184752Z
UID:36404-1746316800-1746662399@controlstation.com
SUMMARY:TAPPICon 2025
DESCRIPTION:
URL:https://controlstation.com/event/tappicon-2025/
LOCATION:Minneapolis Convention Center\, 1301 Second Avenue South\, Minneapolis\, MN\, United States
CATEGORIES:General
ATTACH;FMTTYPE=image/webp:https://controlstation.com/wp-content/uploads/2025/01/fa3a1e075c1144f5a7772ee2ca2337c9_6959a4098040073c50b51a8c812281d8.png.webp
END:VEVENT
END:VCALENDAR