BEGIN:VCALENDAR
VERSION:2.0
PRODID:-//Control Station - ECPv6.15.20//NONSGML v1.0//EN
CALSCALE:GREGORIAN
METHOD:PUBLISH
X-WR-CALNAME:Control Station
X-ORIGINAL-URL:https://controlstation.com
X-WR-CALDESC:Events for Control Station
REFRESH-INTERVAL;VALUE=DURATION:PT1H
X-Robots-Tag:noindex
X-PUBLISHED-TTL:PT1H
BEGIN:VTIMEZONE
TZID:UTC
BEGIN:STANDARD
TZOFFSETFROM:+0000
TZOFFSETTO:+0000
TZNAME:UTC
DTSTART:20200101T000000
END:STANDARD
END:VTIMEZONE
BEGIN:VEVENT
DTSTART;TZID=UTC:20211102T080000
DTEND;TZID=UTC:20211104T170000
DTSTAMP:20260423T105731
CREATED:20210812T174903Z
LAST-MODIFIED:20210812T174903Z
UID:25738-1635840000-1636045200@controlstation.com
SUMMARY:Y NOW 2021
DESCRIPTION:Autonomous operation is the ultimate destination in any digital transformation journey. Autonomous operations possess learning and adaptive capabilities that enable automated responses to emerging situations without human operator interaction. They can rapidly adapt to market disruptions and benefit from improved safety\, higher reliability\, increased efficiency\, reduced costs\, and expedited time-to-market.
URL:https://controlstation.com/event/y-now-2021/
LOCATION:Interactive Online Learning
ATTACH;FMTTYPE=image/webp:https://controlstation.com/wp-content/uploads/2021/08/header_logo-color-drop.webp
END:VEVENT
END:VCALENDAR