BEGIN:VCALENDAR
VERSION:2.0
PRODID:-//Control Station - ECPv6.15.20//NONSGML v1.0//EN
CALSCALE:GREGORIAN
METHOD:PUBLISH
X-WR-CALNAME:Control Station
X-ORIGINAL-URL:https://controlstation.com
X-WR-CALDESC:Events for Control Station
REFRESH-INTERVAL;VALUE=DURATION:PT1H
X-Robots-Tag:noindex
X-PUBLISHED-TTL:PT1H
BEGIN:VTIMEZONE
TZID:UTC
BEGIN:STANDARD
TZOFFSETFROM:+0000
TZOFFSETTO:+0000
TZNAME:UTC
DTSTART:20220101T000000
END:STANDARD
END:VTIMEZONE
BEGIN:VEVENT
DTSTART;VALUE=DATE:20230213
DTEND;VALUE=DATE:20230216
DTSTAMP:20260422T192045
CREATED:20230111T210941Z
LAST-MODIFIED:20230111T210941Z
UID:26137-1676246400-1676505599@controlstation.com
SUMMARY:Rockwell Automation PartnerNetwork
DESCRIPTION:
URL:https://controlstation.com/event/rockwell-automation-partnernetwork/
LOCATION:JW Marriott Los Angeles L.A. LIVE\, 900 West Olympic Boulevard\, Los Angeles\, CA\, 90015\, United States
ATTACH;FMTTYPE=image/webp:https://controlstation.com/wp-content/uploads/2023/01/16x9-RA-PNC-Logo-rgb.1920.webp
END:VEVENT
END:VCALENDAR