BEGIN:VCALENDAR
VERSION:2.0
PRODID:-//Control Station - ECPv6.15.20//NONSGML v1.0//EN
CALSCALE:GREGORIAN
METHOD:PUBLISH
X-WR-CALNAME:Control Station
X-ORIGINAL-URL:https://controlstation.com
X-WR-CALDESC:Events for Control Station
REFRESH-INTERVAL;VALUE=DURATION:PT1H
X-Robots-Tag:noindex
X-PUBLISHED-TTL:PT1H
BEGIN:VTIMEZONE
TZID:UTC
BEGIN:STANDARD
TZOFFSETFROM:+0000
TZOFFSETTO:+0000
TZNAME:UTC
DTSTART:20220101T000000
END:STANDARD
END:VTIMEZONE
BEGIN:VEVENT
DTSTART;VALUE=DATE:20230313
DTEND;VALUE=DATE:20230319
DTSTAMP:20260422T142648
CREATED:20230111T213445Z
LAST-MODIFIED:20230111T213445Z
UID:26157-1678665600-1679183999@controlstation.com
SUMMARY:Rockwell Automation PartnerNetwork EMEA
DESCRIPTION:
URL:https://controlstation.com/event/rockwell-automation-partnernetwork-emea/
LOCATION:Dolce Sitges Hotel\, Avenida Camí de Miralpeix\, Barcelona\, Spain
ATTACH;FMTTYPE=image/webp:https://controlstation.com/wp-content/uploads/2023/01/16x9-RA-PNC-Logo-rgb.1920.webp
END:VEVENT
END:VCALENDAR