BEGIN:VCALENDAR
VERSION:2.0
PRODID:-//Control Station - ECPv6.15.20//NONSGML v1.0//EN
CALSCALE:GREGORIAN
METHOD:PUBLISH
X-ORIGINAL-URL:https://controlstation.com
X-WR-CALDESC:Events for Control Station
REFRESH-INTERVAL;VALUE=DURATION:PT1H
X-Robots-Tag:noindex
X-PUBLISHED-TTL:PT1H
BEGIN:VTIMEZONE
TZID:America/New_York
BEGIN:DAYLIGHT
TZOFFSETFROM:-0500
TZOFFSETTO:-0400
TZNAME:EDT
DTSTART:20230312T070000
END:DAYLIGHT
BEGIN:STANDARD
TZOFFSETFROM:-0400
TZOFFSETTO:-0500
TZNAME:EST
DTSTART:20231105T060000
END:STANDARD
BEGIN:DAYLIGHT
TZOFFSETFROM:-0500
TZOFFSETTO:-0400
TZNAME:EDT
DTSTART:20240310T070000
END:DAYLIGHT
BEGIN:STANDARD
TZOFFSETFROM:-0400
TZOFFSETTO:-0500
TZNAME:EST
DTSTART:20241103T060000
END:STANDARD
BEGIN:DAYLIGHT
TZOFFSETFROM:-0500
TZOFFSETTO:-0400
TZNAME:EDT
DTSTART:20250309T070000
END:DAYLIGHT
BEGIN:STANDARD
TZOFFSETFROM:-0400
TZOFFSETTO:-0500
TZNAME:EST
DTSTART:20251102T060000
END:STANDARD
END:VTIMEZONE
BEGIN:VEVENT
DTSTART;TZID=America/New_York:20240820T130000
DTEND;TZID=America/New_York:20240828T170000
DTSTAMP:20260422T140008
CREATED:20250403T090823Z
LAST-MODIFIED:20250926T212208Z
UID:36558-1724158800-1724864400@controlstation.com
SUMMARY:Techniques for Applied Process Control (Virtual)
DESCRIPTION:  \nAbout the Event\nThis workshop explains how the PID controller functions. Participants learn a proven\, systematic approach for both tuning loops manually and achieving consistent results. \nThis course is not vendor specific. \n\nRegister Now\n \nWho Should Attend?\nTechnicians\, Engineers\, and others with responsibility for control loop performance. \n  \nWhat’s the Objective?\nLearn simple\, repeatable methods for evaluating and tuning PID controllers. \n  \nHow’s it Delivered?\nKey concepts are followed by demos of real-world examples and hands-on exercises. \n\nCourse Information\nBelow is the agenda for the Techniques for Applied Process Control virtual training workshop. The workshop will be delivered in daily segments estimated at four (4) hours in duration. Daily breaks of approximately fifteen (15) minute will be provided by the instructor at appropriate stages of the workshop.https://youtu.be/kgWnvPYoJNc \n\n  \nDay 1 Topics\nLecture: Fundamentals of Process Dynamics and Control\nDemo: Modeling Process Dynamics Using LOOP-PRO\nExercise: Exploring Dynamics of the Gravity-Drained Tanks\nLecture: Proportional Control\nDemo: Implementation of P-Only Controllers\nExercise: P-Only Control of Tank Level\nLecture: Integral Action and PI Control\nExercise: Hazards of Tuning PI Controllers by Trial and Error \nDay 2 Topics\nLecture: Approach to Controller Design Using Design Tools\nExercise: PI Control of Heat Exchanger Temperature\nLecture: Controller Performance Criteria\nDemo: Adaptive PI Control of Nonlinear Processes\nLecture: Derivative Mode and PID Control\nDemo: PID Control of Tank Level\nExercise: PID Control of Heat Exchanger Temperature\nLecture: PID Control with Derivative Filter\nDemo: PID with Filter Control of Heat Exchanger Temperature\nExercise: PID with Filter and Control of the Multi-Tanks Process \nDay 3 Topics\nLecture: Fundamentals of Process Dynamics and Control\nDemo: Modeling Process Dynamics Using LOOP-PRO\nExercise: Exploring Dynamics of the Gravity-Drained Tanks\nLecture: Proportional Control\nDemo: Implementation of P-Only Controllers\nExercise: P-Only Control of Tank Level\nLecture: Integral Action and PI Control\nExercise: Hazards of Tuning PI Controllers by Trial and Error \nDay 4 Topics\nLecture: Approach to Controller Design Using Design Tools\nExercise: PI Control of Heat Exchanger Temperature\nLecture: Controller Performance Criteria\nDemo: Adaptive PI Control of Nonlinear Processes\nLecture: Derivative Mode and PID Control\nDemo: PID Control of Tank Level\nExercise: PID Control of Heat Exchanger Temperature\nLecture: PID Control with Derivative Filter\nDemo: PID with Filter Control of Heat Exchanger Temperature\nExercise: PID with Filter and Control of the Multi-Tanks Process \nRegister Now!\n\n\n\n\n\nName*\nFirst\n\nLast\n\nCompany*\nEmail*\n\nPhone*\nAddress*\nStreet Address\n\nCity\n\nState / Province / Region\n\nZIP / Postal Code\n\nCountry\nAfghanistanAlbaniaAlgeriaAmerican SamoaAndorraAngolaAnguillaAntarcticaAntigua and BarbudaArgentinaArmeniaArubaAustraliaAustriaAzerbaijanBahamasBahrainBangladeshBarbadosBelarusBelgiumBelizeBeninBermudaBhutanBoliviaBonaire\, Sint Eustatius and SabaBosnia and HerzegovinaBotswanaBouvet IslandBrazilBritish Indian Ocean TerritoryBrunei DarussalamBulgariaBurkina FasoBurundiCabo VerdeCambodiaCameroonCanadaCayman IslandsCentral African RepublicChadChileChinaChristmas IslandCocos IslandsColombiaComorosCongoCongo\, Democratic Republic of theCook IslandsCosta RicaCroatiaCubaCuraçaoCyprusCzechiaCôte d’IvoireDenmarkDjiboutiDominicaDominican RepublicEcuadorEgyptEl SalvadorEquatorial GuineaEritreaEstoniaEswatiniEthiopiaFalkland IslandsFaroe IslandsFijiFinlandFranceFrench GuianaFrench PolynesiaFrench Southern TerritoriesGabonGambiaGeorgiaGermanyGhanaGibraltarGreeceGreenlandGrenadaGuadeloupeGuamGuatemalaGuernseyGuineaGuinea-BissauGuyanaHaitiHeard Island and McDonald IslandsHoly SeeHondurasHong KongHungaryIcelandIndiaIndonesiaIranIraqIrelandIsle of ManIsraelItalyJamaicaJapanJerseyJordanKazakhstanKenyaKiribatiKorea\, Democratic People’s Republic ofKorea\, Republic ofKuwaitKyrgyzstanLao People’s Democratic RepublicLatviaLebanonLesothoLiberiaLibyaLiechtensteinLithuaniaLuxembourgMacaoMadagascarMalawiMalaysiaMaldivesMaliMaltaMarshall IslandsMartiniqueMauritaniaMauritiusMayotteMexicoMicronesiaMoldovaMonacoMongoliaMontenegroMontserratMoroccoMozambiqueMyanmarNamibiaNauruNepalNetherlandsNew CaledoniaNew ZealandNicaraguaNigerNigeriaNiueNorfolk IslandNorth MacedoniaNorthern Mariana IslandsNorwayOmanPakistanPalauPalestine\, State ofPanamaPapua New GuineaParaguayPeruPhilippinesPitcairnPolandPortugalPuerto RicoQatarRomaniaRussian FederationRwandaRéunionSaint BarthélemySaint Helena\, Ascension and Tristan da CunhaSaint Kitts and NevisSaint LuciaSaint MartinSaint Pierre and MiquelonSaint Vincent and the GrenadinesSamoaSan MarinoSao Tome and PrincipeSaudi ArabiaSenegalSerbiaSeychellesSierra LeoneSingaporeSint MaartenSlovakiaSloveniaSolomon IslandsSomaliaSouth AfricaSouth Georgia and the South Sandwich IslandsSouth SudanSpainSri LankaSudanSurinameSvalbard and Jan MayenSwedenSwitzerlandSyria Arab RepublicTaiwanTajikistanTanzania\, the United Republic ofThailandTimor-LesteTogoTokelauTongaTrinidad and TobagoTunisiaTurkmenistanTurks and Caicos IslandsTuvaluTürkiyeUS Minor Outlying IslandsUgandaUkraineUnited Arab EmiratesUnited KingdomUnited StatesUruguayUzbekistanVanuatuVenezuelaViet NamVirgin Islands\, BritishVirgin Islands\, U.S.Wallis and FutunaWestern SaharaYemenZambiaZimbabweÅland Islands\nPayment Method*\n\n\nPurchase Order\n\nCredit Card\n\nPlease Contact Me\n\n\nPurchase Order Number\nCAPTCHA\n\n\nCommentsThis field is for validation purposes and should be left unchanged.\n\n\n\n\n\n\n\n\n \nΔ
URL:https://controlstation.com/event/techniques-for-applied-process-control-virtual-67/
LOCATION:WebEx Virtual Event
CATEGORIES:Training
ATTACH;FMTTYPE=image/webp:https://controlstation.com/wp-content/uploads/2023/11/Virtual-Event.webp
END:VEVENT
END:VCALENDAR