BEGIN:VCALENDAR
VERSION:2.0
PRODID:-//Control Station - ECPv6.15.20//NONSGML v1.0//EN
CALSCALE:GREGORIAN
METHOD:PUBLISH
X-WR-CALNAME:Control Station
X-ORIGINAL-URL:https://controlstation.com
X-WR-CALDESC:Events for Control Station
REFRESH-INTERVAL;VALUE=DURATION:PT1H
X-Robots-Tag:noindex
X-PUBLISHED-TTL:PT1H
BEGIN:VTIMEZONE
TZID:UTC
BEGIN:STANDARD
TZOFFSETFROM:+0000
TZOFFSETTO:+0000
TZNAME:UTC
DTSTART:20250101T000000
END:STANDARD
END:VTIMEZONE
BEGIN:VTIMEZONE
TZID:America/New_York
BEGIN:DAYLIGHT
TZOFFSETFROM:-0500
TZOFFSETTO:-0400
TZNAME:EDT
DTSTART:20250309T070000
END:DAYLIGHT
BEGIN:STANDARD
TZOFFSETFROM:-0400
TZOFFSETTO:-0500
TZNAME:EST
DTSTART:20251102T060000
END:STANDARD
BEGIN:DAYLIGHT
TZOFFSETFROM:-0500
TZOFFSETTO:-0400
TZNAME:EDT
DTSTART:20260308T070000
END:DAYLIGHT
BEGIN:STANDARD
TZOFFSETFROM:-0400
TZOFFSETTO:-0500
TZNAME:EST
DTSTART:20261101T060000
END:STANDARD
BEGIN:DAYLIGHT
TZOFFSETFROM:-0500
TZOFFSETTO:-0400
TZNAME:EDT
DTSTART:20270314T070000
END:DAYLIGHT
BEGIN:STANDARD
TZOFFSETFROM:-0400
TZOFFSETTO:-0500
TZNAME:EST
DTSTART:20271107T060000
END:STANDARD
END:VTIMEZONE
BEGIN:VEVENT
DTSTART;VALUE=DATE:20260421
DTEND;VALUE=DATE:20260501
DTSTAMP:20260420T134104
CREATED:20260319T135110Z
LAST-MODIFIED:20260319T142144Z
UID:37414-1776729600-1777593599@controlstation.com
SUMMARY:Routeco Live 2026
DESCRIPTION:Control Station at Routeco Live 2026\nControl Station will participate in Routeco Live 2026\, a multi-location industrial automation event held across the United Kingdom in April 2026\, bringing together leading technology providers\, system integrators\, and manufacturing professionals for a full day of technical discussions\, demonstrations\, and networking. The event focuses on practical solutions for improving productivity\, reliability\, and digital transformation across modern industrial operations. \nRouteco Live is designed to provide hands-on access to the latest automation technologies\, with live demonstrations\, expert presentations\, and opportunities to speak directly with specialists about real-world control\, instrumentation\, and digitalization challenges. \nControl Station will be exhibiting at the event and will be available to discuss proven methods for improving PID loop performance\, reducing variability\, and increasing process stability using model-based tuning and control performance monitoring technologies. \n\n \nEvent Dates & Locations\n\n\nApril 21\, 2026 — Leeds\, UK (Elland Road Stadium) \n\n\nApril 23\, 2026 — Manchester\, UK (Old Trafford) \n\n\nApril 28\, 2026 — Yeovil\, UK (Haynes Motor Museum) \n\n\nApril 30\, 2026 — Northampton\, UK (Franklin’s Gardens) \n\n\nRouteco Live is organized as a four-city event series\, allowing attendees to join the location most convenient for their region while experiencing the same technical program and exhibition. \n  \nVisit Control Station at the Booth\nStop by the Control Station booth to learn how process manufacturers are using LOOP-PRO® and PlantESP® to: \n\n\nDetect oscillations and loop interactions \n\n\nImprove PID tuning accuracy \n\n\nReduce process variability \n\n\nIncrease controller stability \n\n\nLink control performance to operational KPIs \n\n\nOur engineers will be available to discuss real-world applications in chemicals\, oil & gas\, power\, food & beverage\, mining\, and other continuous process industries. \n\n \nAbout Routeco Live\nRouteco Live is a UK-based automation event series held at multiple locations\, featuring expert talks\, hands-on demonstrations\, and exhibits from leading automation suppliers. The program highlights technologies related to robotics\, digital transformation\, cybersecurity\, modernization\, and advanced control solutions used in today’s industrial facilities. \n\n	\n	Add to calendar	\n		\n	\n \n\n\n	Google Calendar\n\n\n	iCalendar\n\n\n	Outlook 365\n\n\n	Outlook Live
URL:https://controlstation.com/event/routeco-live-2026/
LOCATION:United Kingdom\, United Kingdom
CATEGORIES:Tradeshows
ATTACH;FMTTYPE=image/jpeg:https://controlstation.com/wp-content/uploads/2026/03/Routeco-Live-logo-2400x1350px.2400.jpg
END:VEVENT
BEGIN:VEVENT
DTSTART;TZID=America/New_York:20260421T100000
DTEND;TZID=America/New_York:20260421T110000
DTSTAMP:20260420T134104
CREATED:20251117T170510Z
LAST-MODIFIED:20260217T154727Z
UID:37184-1776765600-1776769200@controlstation.com
SUMMARY:Pass or Fail: How Benchmarking Your Plant's Performance Reveals the Right Path Forward
DESCRIPTION:
URL:https://attendee.gotowebinar.com/register/980704350198845024#new_tab
LOCATION:Interactive Online Learning
CATEGORIES:Public Webinar
ATTACH;FMTTYPE=image/webp:https://controlstation.com/wp-content/uploads/2025/11/Live-Webinar-Cover-.webp
END:VEVENT
END:VCALENDAR