BEGIN:VCALENDAR
VERSION:2.0
PRODID:-//Control Station - ECPv6.15.20//NONSGML v1.0//EN
CALSCALE:GREGORIAN
METHOD:PUBLISH
X-ORIGINAL-URL:https://controlstation.com
X-WR-CALDESC:Events for Control Station
REFRESH-INTERVAL;VALUE=DURATION:PT1H
X-Robots-Tag:noindex
X-PUBLISHED-TTL:PT1H
BEGIN:VTIMEZONE
TZID:America/New_York
BEGIN:DAYLIGHT
TZOFFSETFROM:-0500
TZOFFSETTO:-0400
TZNAME:EDT
DTSTART:20250309T070000
END:DAYLIGHT
BEGIN:STANDARD
TZOFFSETFROM:-0400
TZOFFSETTO:-0500
TZNAME:EST
DTSTART:20251102T060000
END:STANDARD
BEGIN:DAYLIGHT
TZOFFSETFROM:-0500
TZOFFSETTO:-0400
TZNAME:EDT
DTSTART:20260308T070000
END:DAYLIGHT
BEGIN:STANDARD
TZOFFSETFROM:-0400
TZOFFSETTO:-0500
TZNAME:EST
DTSTART:20261101T060000
END:STANDARD
BEGIN:DAYLIGHT
TZOFFSETFROM:-0500
TZOFFSETTO:-0400
TZNAME:EDT
DTSTART:20270314T070000
END:DAYLIGHT
BEGIN:STANDARD
TZOFFSETFROM:-0400
TZOFFSETTO:-0500
TZNAME:EST
DTSTART:20271107T060000
END:STANDARD
END:VTIMEZONE
BEGIN:VTIMEZONE
TZID:Europe/London
BEGIN:DAYLIGHT
TZOFFSETFROM:+0000
TZOFFSETTO:+0100
TZNAME:BST
DTSTART:20250330T010000
END:DAYLIGHT
BEGIN:STANDARD
TZOFFSETFROM:+0100
TZOFFSETTO:+0000
TZNAME:GMT
DTSTART:20251026T010000
END:STANDARD
BEGIN:DAYLIGHT
TZOFFSETFROM:+0000
TZOFFSETTO:+0100
TZNAME:BST
DTSTART:20260329T010000
END:DAYLIGHT
BEGIN:STANDARD
TZOFFSETFROM:+0100
TZOFFSETTO:+0000
TZNAME:GMT
DTSTART:20261025T010000
END:STANDARD
BEGIN:DAYLIGHT
TZOFFSETFROM:+0000
TZOFFSETTO:+0100
TZNAME:BST
DTSTART:20270328T010000
END:DAYLIGHT
BEGIN:STANDARD
TZOFFSETFROM:+0100
TZOFFSETTO:+0000
TZNAME:GMT
DTSTART:20271031T010000
END:STANDARD
END:VTIMEZONE
BEGIN:VTIMEZONE
TZID:UTC
BEGIN:STANDARD
TZOFFSETFROM:+0000
TZOFFSETTO:+0000
TZNAME:UTC
DTSTART:20250101T000000
END:STANDARD
END:VTIMEZONE
BEGIN:VEVENT
DTSTART;TZID=America/New_York:20260810T130000
DTEND;TZID=America/New_York:20260810T170000
DTSTAMP:20260423T104800
CREATED:20251104T165642Z
LAST-MODIFIED:20251104T185306Z
UID:37124-1786366800-1786381200@controlstation.com
SUMMARY:LOOP-PRO Tuner Primer
DESCRIPTION:
URL:https://controlstation.com/event/loop-pro-tuner-primer-8/
LOCATION:Interactive Online Learning
CATEGORIES:Training
ATTACH;FMTTYPE=image/webp:https://controlstation.com/wp-content/uploads/2024/11/Afternoon-EST.webp
END:VEVENT
BEGIN:VEVENT
DTSTART;TZID=America/New_York:20260818T100000
DTEND;TZID=America/New_York:20260818T110000
DTSTAMP:20260423T104800
CREATED:20251117T171503Z
LAST-MODIFIED:20260420T164626Z
UID:37187-1787047200-1787050800@controlstation.com
SUMMARY:When Loops Collide: Overcoming the Challenges of Interacting PID Controllers
DESCRIPTION:Tuning a single PID controller is challenging enough—but when multiple loops interact\, achieving stable\, predictable performance becomes exponentially more difficult. A loop you just tuned may suddenly destabilize because another loop is influencing it. Understanding and managing these interactions is essential for maintaining reliable process control in complex industrial systems. \nThis webinar explores the dynamics of loop interaction and presents proven strategies for diagnosing issues and tuning controllers for consistent\, optimized performance. \nDesigned for process and controls engineers\, this session will help you: \n\nUnderstand the root causes and behaviors of interacting PID loops\, including cross-coupling and system-level effects.\nApply diagnostic techniques to identify and isolate interaction-driven problems within your control architecture.\nUse practical tuning and configuration methods to compensate for loop interaction and restore stable control.\n\nTake control of multi-loop systems and avoid performance degradation caused by interaction. Register now to learn how to minimize its impact and improve overall PID loop performance.
URL:https://attendee.gotowebinar.com/register/598062209104992855#new_tab
LOCATION:Interactive Online Learning
CATEGORIES:Public Webinar
ATTACH;FMTTYPE=image/webp:https://controlstation.com/wp-content/uploads/2025/11/Live-Webinar-Cover-.webp
END:VEVENT
BEGIN:VEVENT
DTSTART;TZID=America/New_York:20260901T080000
DTEND;TZID=America/New_York:20260904T120000
DTSTAMP:20260423T104800
CREATED:20251104T165845Z
LAST-MODIFIED:20251104T191902Z
UID:37132-1788249600-1788523200@controlstation.com
SUMMARY:Techniques for Applied Process Control
DESCRIPTION:
URL:https://controlstation.com/event/techniques-for-applied-process-control-6/
LOCATION:Interactive Online Learning
CATEGORIES:Training
ATTACH;FMTTYPE=image/webp:https://controlstation.com/wp-content/uploads/2024/11/Morning-EST.webp
END:VEVENT
BEGIN:VEVENT
DTSTART;TZID=America/New_York:20260915T100000
DTEND;TZID=America/New_York:20260915T110000
DTSTAMP:20260423T104800
CREATED:20251117T171751Z
LAST-MODIFIED:20260420T164557Z
UID:37188-1789466400-1789470000@controlstation.com
SUMMARY:From Blind Spots to Insights: The Case for Data-Driven Analysis and Plant-Wide Controller Performance Audits
DESCRIPTION:“What you don’t know can’t hurt you” is a dangerous mindset—especially when it comes to your facility’s PID controller performance. Overlooking controller issues can lead to instability\, increased variability\, equipment stress\, and unexpected production losses. \nThis webinar introduces a proven methodology for conducting comprehensive PID performance audits and shows how data-driven analysis can uncover tuning deficiencies\, oscillatory loops\, and interaction problems that quietly undermine plant performance. \nDesigned for corporate and plant managers\, this session will equip you to: \n\nPerform a structured\, data-driven PID performance audit using data that you probably already capture.\nIdentify tuning weaknesses\, oscillations\, and interaction issues the effects of which are routinely overlooked or minimized.\nTranslate audit findings into targeted corrective actions that improve reliability\, stability\, and overall process performance\n\nLearn how plant-wide controller assessments can prevent costly disruptions and boost operational efficiency. Register now to gain the skills needed to evaluate and elevate your facility’s control performance.
URL:https://attendee.gotowebinar.com/register/427547746846248021#new_tab
LOCATION:Interactive Online Learning
CATEGORIES:Public Webinar
ATTACH;FMTTYPE=image/webp:https://controlstation.com/wp-content/uploads/2025/11/Live-Webinar-Cover-.webp
END:VEVENT
BEGIN:VEVENT
DTSTART;TZID=Europe/London:20260921T080000
DTEND;TZID=Europe/London:20260924T120000
DTSTAMP:20260423T104800
CREATED:20251104T170246Z
LAST-MODIFIED:20251104T191824Z
UID:37138-1789977600-1790251200@controlstation.com
SUMMARY:Techniques for Applied Process Control
DESCRIPTION:
URL:https://controlstation.com/event/techniques-for-applied-process-control-12/
LOCATION:Interactive Online Learning
CATEGORIES:Training
ATTACH;FMTTYPE=image/webp:https://controlstation.com/wp-content/uploads/2024/11/Morning-GMT.webp
END:VEVENT
BEGIN:VEVENT
DTSTART;VALUE=DATE:20260927
DTEND;VALUE=DATE:20260930
DTSTAMP:20260423T104800
CREATED:20260319T125945Z
LAST-MODIFIED:20260319T132217Z
UID:37403-1790467200-1790726399@controlstation.com
SUMMARY:ISA Automation Summit & Expo 2026
DESCRIPTION:Control Station at ISA Automation Summit & Expo 2026\nControl Station will participate in the ISA Automation Summit & Expo 2026\, hosted by the International Society of Automation (ISA)\, taking place September 27–29\, 2026 in Lake Buena Vista\, Florida\, USA. The event brings together automation professionals\, control engineers\, and industry leaders to explore new technologies\, attend technical sessions\, and share best practices in industrial automation\, process control\, and operational technology. \nDuring this year’s conference\, Dr. Bob Rice\, Vice President of Engineering at Control Station\, will deliver a technical presentation focused on practical strategies for tuning interacting PID control loops in real industrial environments. \nAbout ISA Automation Summit & Expo\nThe ISA Automation Summit & Expo is a premier event for the automation community\, featuring technical sessions\, training courses\, workshops\, and an exhibition showcasing solutions in process control\, instrumentation\, cybersecurity\, and industrial digitalization. The conference provides a forum for engineers and industry experts to exchange knowledge and learn proven methods for improving plant performance and reliability. \n\n\n\nAdd to calendar \n \n\nGoogle Calendar\niCalendar\nOutlook 365\nOutlook Live
URL:https://controlstation.com/event/isa-automation-2026/
LOCATION:Walt Disney World Swan and Dolphin\, Lake Buena Vista\, Florida\, 1200 Epcot Resorts Blvd\, Lake Buena Vista\, FL 32830\, Lake Buena Vista\, FL\, FL 32830\, United States
CATEGORIES:Tradeshows
ATTACH;FMTTYPE=image/svg+xml:https://controlstation.com/wp-content/uploads/2026/03/Automation-Summit-and-Expo-Logo-with-ISA-logo.svg
END:VEVENT
BEGIN:VEVENT
DTSTART;TZID=America/New_York:20260929T080000
DTEND;TZID=America/New_York:20261002T120000
DTSTAMP:20260423T104800
CREATED:20251104T165642Z
LAST-MODIFIED:20251104T190142Z
UID:37126-1790668800-1790942400@controlstation.com
SUMMARY:Essentials of PlantESP LPM
DESCRIPTION:
URL:https://controlstation.com/event/essentials-of-plantesp-lpm-2/
LOCATION:Interactive Online Learning
CATEGORIES:Training
ATTACH;FMTTYPE=image/webp:https://controlstation.com/wp-content/uploads/2024/11/Morning-EST.webp
END:VEVENT
BEGIN:VEVENT
DTSTART;TZID=America/New_York:20261013T080000
DTEND;TZID=America/New_York:20261016T120000
DTSTAMP:20260423T104800
CREATED:20251104T170045Z
LAST-MODIFIED:20251104T191747Z
UID:37133-1791878400-1792152000@controlstation.com
SUMMARY:Techniques for Applied Process Control
DESCRIPTION:
URL:https://controlstation.com/event/techniques-for-applied-process-control-7/
LOCATION:Interactive Online Learning
CATEGORIES:Training
ATTACH;FMTTYPE=image/webp:https://controlstation.com/wp-content/uploads/2024/11/Morning-EST.webp
END:VEVENT
BEGIN:VEVENT
DTSTART;TZID=America/New_York:20261020T100000
DTEND;TZID=America/New_York:20261020T110000
DTSTAMP:20260423T104800
CREATED:20251117T171940Z
LAST-MODIFIED:20260420T164104Z
UID:37189-1792490400-1792494000@controlstation.com
SUMMARY:Smarter PID Tuning Starts Here: Overcoming the Limitations of Manual Controller Tuning
DESCRIPTION:Manual PID tuning remains common—and Control Station even teaches a repeatable\, calculator-based approach for estimating models and tuning coefficients. But relying on trend estimates and slope calculations can be imprecise\, time-consuming\, and disruptive. Without visibility into the controller’s predicted response\, tuning often requires multiple iterations that slow down operations and impact production. \nInnovations in process modeling effectively eliminate these challenges by generating accurate models from real operating data\, even when noisy or oscillatory\, and by validating PID performance before parameters are put into service. \nIntended for individuals responsible for PID loop tuning\, this session will equip you to: \n\nUnderstand why manual tuning frequently leads to inaccurate results\, repeated adjustments\, and prolonged performance disruptions.\nLearn how an innovative modeling approach develops reliable models and optimal tuning parameters—even from imperfect data.\nSee how modeling eliminates issues by simulating the PID response prior to implementation\, ensuring first-time-right optimization.\n\nDiscover the hidden costs of manual tuning and how NSS accelerates plant-wide control improvement. Register now to streamline your tuning workflow and improve process performance.
URL:https://attendee.gotowebinar.com/register/6267470716871526751#new_tab
LOCATION:Interactive Online Learning
CATEGORIES:Public Webinar
ATTACH;FMTTYPE=image/webp:https://controlstation.com/wp-content/uploads/2025/11/Live-Webinar-Cover-.webp
END:VEVENT
BEGIN:VEVENT
DTSTART;TZID=America/New_York:20261103T130000
DTEND;TZID=America/New_York:20261106T170000
DTSTAMP:20260423T104800
CREATED:20251104T170045Z
LAST-MODIFIED:20251104T191707Z
UID:37134-1793710800-1793984400@controlstation.com
SUMMARY:Techniques for Applied Process Control
DESCRIPTION:
URL:https://controlstation.com/event/techniques-for-applied-process-control-8/
LOCATION:Interactive Online Learning
CATEGORIES:Training
ATTACH;FMTTYPE=image/webp:https://controlstation.com/wp-content/uploads/2024/11/Afternoon-EST.webp
END:VEVENT
BEGIN:VEVENT
DTSTART;VALUE=DATE:20261116
DTEND;VALUE=DATE:20261120
DTSTAMP:20260423T104800
CREATED:20260319T124824Z
LAST-MODIFIED:20260319T132331Z
UID:37400-1794787200-1795132799@controlstation.com
SUMMARY:Automation Fair 2026
DESCRIPTION:Control Station at AiChE 2026\n\nDates: April 14 – 16\, 2026\nLocation: Hilton Americas–Houston\nRoom 335 A\nSpeaker: Dr. Chris Chritie – Director of Services\, Control Station\nPresentation Time: 2:14 pm – 2:36 pm\nTitle: Advancing Process Optimization Through Overall Controller Effectiveness: A Novel Metric for Evaluating PID Performance.\nTake-Away: OCE provides a simple\, scalable metric for evaluating PID performance and links controller effectiveness to plant-wide efficiency\, reliability\, and other smart manufacturing goals.\n\nAbout the Event\nControl Station will participate in the AIChE Spring Meeting and Global Congress on Process Safety 2026\, one of the most important technical conferences for chemical and process engineers. The event will take place April 12–16\, 2026 in Houston\, Texas\, at the Hilton Americas–Houston and the George R. Brown Convention Center\, bringing together industry professionals to discuss innovations in process optimization\, automation\, safety\, and emerging technologies.\nTechnical Presentation\nAs part of the conference program\, Chris Christie\, PhD\, will present new work focused on improving the way industrial PID loop performance is evaluated. \n\n\n\n\n\nAdd to calendar \n \n\nGoogle Calendar\niCalendar\nOutlook 365\nOutlook Live
URL:https://controlstation.com/event/automation-fair-2026/
LOCATION:Thomas M. Menino Convention & Exhibition Center\, 415 Summer St\, Boston\, MA\, Boston\, MA\, 02210\, United States
CATEGORIES:Tradeshows
ATTACH;FMTTYPE=image/webp:https://controlstation.com/wp-content/uploads/2026/03/Automation-Fair.webp
END:VEVENT
BEGIN:VEVENT
DTSTART;TZID=America/New_York:20261117T100000
DTEND;TZID=America/New_York:20261117T110000
DTSTAMP:20260423T104800
CREATED:20251117T172136Z
LAST-MODIFIED:20260420T164520Z
UID:37190-1794909600-1794913200@controlstation.com
SUMMARY:Measuring What Matters: A Faster Way of Isolating PID Control Loops that Undermine Production and Profit
DESCRIPTION:For decades\, discrete manufacturers have relied on Overall Equipment Effectiveness (OEE) to identify underperforming machines. As a normalized metric\, OEE can be applied consistently across individual assets\, production lines\, or entire cells. When a line’s OEE drops\, the math makes it easy to isolate the specific machine or asset dragging performance down. \nProcess manufacturers can apply this same powerful concept to PID controller performance—enabling objective benchmarking\, rapid root cause analysis\, and smarter optimization decisions. \nIntended for corporate and plant managers\, this session will equip participants to: \n\nUnderstand how the OEE framework can be applied to assessing controller performance at the loop\, unit\, and plant levels.\nUse this method pinpoints underperforming controllers and identifies root causes\, including tuning issues\, equipment problems\, or process changes.\nLeverage new KPI insights to prioritize improvements and drive plant-wide performance gains using a data-driven\, OEE-style approach.\n\nSee how applying proven OEE concepts to process control can simplify optimization and improve operational effectiveness. Register now to learn why leading manufacturers are embracing a new method.
URL:https://attendee.gotowebinar.com/register/4850608147482198107#new_tab
LOCATION:Interactive Online Learning
CATEGORIES:Public Webinar
ATTACH;FMTTYPE=image/webp:https://controlstation.com/wp-content/uploads/2025/11/Live-Webinar-Cover-.webp
END:VEVENT
BEGIN:VEVENT
DTSTART;TZID=Europe/London:20261123T080000
DTEND;TZID=Europe/London:20261126T120000
DTSTAMP:20260423T104800
CREATED:20251104T170246Z
LAST-MODIFIED:20251104T191602Z
UID:37139-1795420800-1795694400@controlstation.com
SUMMARY:Techniques for Applied Process Control
DESCRIPTION:
URL:https://controlstation.com/event/techniques-for-applied-process-control-13/
LOCATION:Interactive Online Learning
CATEGORIES:Training
ATTACH;FMTTYPE=image/webp:https://controlstation.com/wp-content/uploads/2024/11/Morning-GMT.webp
END:VEVENT
BEGIN:VEVENT
DTSTART;TZID=America/New_York:20261208T080000
DTEND;TZID=America/New_York:20261211T120000
DTSTAMP:20260423T104800
CREATED:20251104T170045Z
LAST-MODIFIED:20260301T144053Z
UID:37135-1796716800-1796990400@controlstation.com
SUMMARY:Techniques for Applied Process Control
DESCRIPTION:
URL:https://controlstation.com/event/techniques-for-applied-process-control-9/
LOCATION:Interactive Online Learning
CATEGORIES:Training
ATTACH;FMTTYPE=image/webp:https://controlstation.com/wp-content/uploads/2024/11/Morning-EST.webp
END:VEVENT
END:VCALENDAR