BEGIN:VCALENDAR
VERSION:2.0
PRODID:-//Control Station - ECPv6.15.20//NONSGML v1.0//EN
CALSCALE:GREGORIAN
METHOD:PUBLISH
X-ORIGINAL-URL:https://controlstation.com
X-WR-CALDESC:Events for Control Station
REFRESH-INTERVAL;VALUE=DURATION:PT1H
X-Robots-Tag:noindex
X-PUBLISHED-TTL:PT1H
BEGIN:VTIMEZONE
TZID:UTC
BEGIN:STANDARD
TZOFFSETFROM:+0000
TZOFFSETTO:+0000
TZNAME:UTC
DTSTART:20220101T000000
END:STANDARD
END:VTIMEZONE
BEGIN:VEVENT
DTSTART;VALUE=DATE:20230226
DTEND;VALUE=DATE:20230302
DTSTAMP:20260422T124916
CREATED:20220803T131149Z
LAST-MODIFIED:20220803T131149Z
UID:26036-1677369600-1677715199@controlstation.com
SUMMARY:MineXchange 2023 SME Annual Conference & Expo
DESCRIPTION:
URL:https://controlstation.com/event/minexchange-2023-sme-annual-conference-expo/
LOCATION:Colorado Convention Center\, 700 14th Street\, Denver\, CO\, 80202\, United States
ATTACH;FMTTYPE=image/webp:https://controlstation.com/wp-content/uploads/2022/08/MineXchange-2021-Logo-1024x570.png.webp
END:VEVENT
BEGIN:VEVENT
DTSTART;VALUE=DATE:20230313
DTEND;VALUE=DATE:20230319
DTSTAMP:20260422T124916
CREATED:20230111T213445Z
LAST-MODIFIED:20230111T213445Z
UID:26157-1678665600-1679183999@controlstation.com
SUMMARY:Rockwell Automation PartnerNetwork EMEA
DESCRIPTION:
URL:https://controlstation.com/event/rockwell-automation-partnernetwork-emea/
LOCATION:Dolce Sitges Hotel\, Avenida Camí de Miralpeix\, Barcelona\, Spain
ATTACH;FMTTYPE=image/webp:https://controlstation.com/wp-content/uploads/2023/01/16x9-RA-PNC-Logo-rgb.1920.webp
END:VEVENT
BEGIN:VEVENT
DTSTART;VALUE=DATE:20230329
DTEND;VALUE=DATE:20230330
DTSTAMP:20260422T124916
CREATED:20230209T001314Z
LAST-MODIFIED:20230209T001314Z
UID:26176-1680048000-1680134399@controlstation.com
SUMMARY:LOOP-PRO Tuner Primer
DESCRIPTION:
URL:https://controlstation.com/event/loop-pro-tuner-primer/
LOCATION:Interactive Online Learning
CATEGORIES:Training
ATTACH;FMTTYPE=image/webp:https://controlstation.com/wp-content/uploads/2022/11/Control-Station-Company-Logo.png-IYpZsl.tmp_.webp
END:VEVENT
END:VCALENDAR